BEGIN:VCALENDAR
VERSION:2.0
PRODID:-//Farm Management Canada - ECPv6.15.20//NONSGML v1.0//EN
CALSCALE:GREGORIAN
METHOD:PUBLISH
X-WR-CALNAME:Farm Management Canada
X-ORIGINAL-URL:https://fmc-gac.com/?lang=fr
X-WR-CALDESC:Évènements pour Farm Management Canada
REFRESH-INTERVAL;VALUE=DURATION:PT1H
X-Robots-Tag:noindex
X-PUBLISHED-TTL:PT1H
BEGIN:VTIMEZONE
TZID:America/Toronto
BEGIN:DAYLIGHT
TZOFFSETFROM:-0500
TZOFFSETTO:-0400
TZNAME:EDT
DTSTART:20250309T070000
END:DAYLIGHT
BEGIN:STANDARD
TZOFFSETFROM:-0400
TZOFFSETTO:-0500
TZNAME:EST
DTSTART:20251102T060000
END:STANDARD
BEGIN:DAYLIGHT
TZOFFSETFROM:-0500
TZOFFSETTO:-0400
TZNAME:EDT
DTSTART:20260308T070000
END:DAYLIGHT
BEGIN:STANDARD
TZOFFSETFROM:-0400
TZOFFSETTO:-0500
TZNAME:EST
DTSTART:20261101T060000
END:STANDARD
BEGIN:DAYLIGHT
TZOFFSETFROM:-0500
TZOFFSETTO:-0400
TZNAME:EDT
DTSTART:20270314T070000
END:DAYLIGHT
BEGIN:STANDARD
TZOFFSETFROM:-0400
TZOFFSETTO:-0500
TZNAME:EST
DTSTART:20271107T060000
END:STANDARD
END:VTIMEZONE
BEGIN:VEVENT
DTSTART;TZID=America/Toronto:20260210T090000
DTEND;TZID=America/Toronto:20260210T173000
DTSTAMP:20260421T002205
CREATED:20260209T024745Z
LAST-MODIFIED:20260209T215350Z
UID:29620-1770714000-1770744600@fmc-gac.com
SUMMARY:Nourrir l’avenir
DESCRIPTION:Soyez des nôtres alors que nous nous unissons pour Nourrir l’avenir de l’agriculture et de l’agroalimentaire. Ensemble\, saisissons cette occasion sans précédent de bâtir notre avenir. Forts des 10 ans du #JourAgCan\, déclenchons la prochaine décennie d’action. Soyez de la partie en février! \n \n 
URL:https://fmc-gac.com/event/nourrir-lavenir/?lang=fr
CATEGORIES:En personne
END:VEVENT
BEGIN:VEVENT
DTSTART;TZID=America/Toronto:20260218T090000
DTEND;TZID=America/Toronto:20260218T160000
DTSTAMP:20260421T002205
CREATED:20260210T031940Z
LAST-MODIFIED:20260210T031940Z
UID:29644-1771405200-1771430400@fmc-gac.com
SUMMARY:Introduction à la mise en marché et commercialisation
DESCRIPTION:Cette formation s’adresse à des entreprises qui souhaitant amorcer leur commercialisation. Les participants y découvriront comment choisir leurs canaux de distribution\, fixer des prix de vente cohérents avec le marché\, préparer leurs rencontres avec des acheteurs\, animer leurs ventes\, développer leur notoriété et mesurer leurs performances. La formation combine théorie\, exercices pratiques et échanges\, et inclut des outils prêts à l’emploi pour guider les décisions et optimiser les efforts dès les premiers pas sur le marché.
URL:https://fmc-gac.com/event/introduction-commercialisation/?lang=fr
CATEGORIES:En personne
END:VEVENT
BEGIN:VEVENT
DTSTART;TZID=America/Toronto:20260220T133000
DTEND;TZID=America/Toronto:20260220T203000
DTSTAMP:20260421T002205
CREATED:20260209T215213Z
LAST-MODIFIED:20260209T215321Z
UID:29635-1771594200-1771619400@fmc-gac.com
SUMMARY:Événement Relève 2026 de l'AQDFL
DESCRIPTION:Soyez des nôtres alors que nous nous unissons pour Nourrir l’avenir de l’agriculture et de l’agroalimentaire. Ensemble\, saisissons cette occasion sans précédent de bâtir notre avenir. Forts des 10 ans du #JourAgCan\, déclenchons la prochaine décennie d’action. Soyez de la partie en février! \n \n 
URL:https://fmc-gac.com/event/evenement-releve-2026-aqdfl/?lang=fr
CATEGORIES:En personne
END:VEVENT
END:VCALENDAR