BEGIN:VCALENDAR
VERSION:2.0
PRODID:-//Farm Management Canada - ECPv6.15.20//NONSGML v1.0//EN
CALSCALE:GREGORIAN
METHOD:PUBLISH
X-WR-CALNAME:Farm Management Canada
X-ORIGINAL-URL:https://fmc-gac.com/?lang=fr
X-WR-CALDESC:Évènements pour Farm Management Canada
REFRESH-INTERVAL;VALUE=DURATION:PT1H
X-Robots-Tag:noindex
X-PUBLISHED-TTL:PT1H
BEGIN:VTIMEZONE
TZID:America/Toronto
BEGIN:DAYLIGHT
TZOFFSETFROM:-0500
TZOFFSETTO:-0400
TZNAME:EDT
DTSTART:20250309T070000
END:DAYLIGHT
BEGIN:STANDARD
TZOFFSETFROM:-0400
TZOFFSETTO:-0500
TZNAME:EST
DTSTART:20251102T060000
END:STANDARD
BEGIN:DAYLIGHT
TZOFFSETFROM:-0500
TZOFFSETTO:-0400
TZNAME:EDT
DTSTART:20260308T070000
END:DAYLIGHT
BEGIN:STANDARD
TZOFFSETFROM:-0400
TZOFFSETTO:-0500
TZNAME:EST
DTSTART:20261101T060000
END:STANDARD
BEGIN:DAYLIGHT
TZOFFSETFROM:-0500
TZOFFSETTO:-0400
TZNAME:EDT
DTSTART:20270314T070000
END:DAYLIGHT
BEGIN:STANDARD
TZOFFSETFROM:-0400
TZOFFSETTO:-0500
TZNAME:EST
DTSTART:20271107T060000
END:STANDARD
END:VTIMEZONE
BEGIN:VEVENT
DTSTART;VALUE=DATE:20260314
DTEND;VALUE=DATE:20260315
DTSTAMP:20260420T223044
CREATED:20260209T220628Z
LAST-MODIFIED:20260209T220628Z
UID:29642-1773446400-1773532799@fmc-gac.com
SUMMARY:Congrès de la Fédération de la relève agricole du Québec (FRAQ)
DESCRIPTION:Le 44e Congrès de la relève s’en va à Orford en Estrie du 12 au 14 mars 2026! \n \n 
URL:https://fmc-gac.com/event/congres-fraq-2026/?lang=fr
CATEGORIES:En personne
END:VEVENT
END:VCALENDAR