BEGIN:VCALENDAR
VERSION:2.0
PRODID:-//Farm Management Canada - ECPv6.15.17.1//NONSGML v1.0//EN
CALSCALE:GREGORIAN
METHOD:PUBLISH
X-ORIGINAL-URL:https://fmc-gac.com
X-WR-CALDESC:Events for Farm Management Canada
REFRESH-INTERVAL;VALUE=DURATION:PT1H
X-Robots-Tag:noindex
X-PUBLISHED-TTL:PT1H
BEGIN:VTIMEZONE
TZID:UTC
BEGIN:STANDARD
TZOFFSETFROM:+0000
TZOFFSETTO:+0000
TZNAME:UTC
DTSTART:20250101T000000
END:STANDARD
END:VTIMEZONE
BEGIN:VEVENT
DTSTART;VALUE=DATE:20260128
DTEND;VALUE=DATE:20260129
DTSTAMP:20260420T144025
CREATED:20260120T201538Z
LAST-MODIFIED:20260126T191732Z
UID:29260-1769558400-1769644799@fmc-gac.com
SUMMARY:International Succession Symposium
DESCRIPTION:Join us for the International Succession Symposium on 28 January 2026\, hosted by Michael Mack\, Chair of the Succession Alliance. This global conversation will bring together practitioners\, researchers and on-farm voices from the UK\, Europe\, North America\, Australia and New Zealand to explore the realities of succession planning in farming today. With contributions from John Baker (Iowa)\, Matt Lobley (University of Exeter\, UK)\, Shane Conway (Atlantic Technological University\, Ireland)\, and Andrew Lawson (University of New England\, Australia)\, the symposium will use pre-submitted questions to guide a truly international discussion on the challenges\, patterns and emerging themes shaping how families plan for the future of their farms.
URL:https://fmc-gac.com/event/international-succession-symposium/
CATEGORIES:Virtual
END:VEVENT
END:VCALENDAR